BEGIN:VCALENDAR
VERSION:2.0
PRODID:-//Gavroche Brasserie - ECPv5.16.2.1//NONSGML v1.0//EN
CALSCALE:GREGORIAN
METHOD:PUBLISH
X-WR-CALNAME:Gavroche Brasserie
X-ORIGINAL-URL:https://gavroche.com.au
X-WR-CALDESC:Events for Gavroche Brasserie
BEGIN:VTIMEZONE
TZID:Australia/Sydney
BEGIN:STANDARD
TZOFFSETFROM:+1100
TZOFFSETTO:+1000
TZNAME:AEST
DTSTART:20210403T160000
END:STANDARD
BEGIN:DAYLIGHT
TZOFFSETFROM:+1000
TZOFFSETTO:+1100
TZNAME:AEDT
DTSTART:20211002T160000
END:DAYLIGHT
END:VTIMEZONE
BEGIN:VEVENT
DTSTART;VALUE=DATE:20210212
DTEND;VALUE=DATE:20210215
DTSTAMP:20260425T012406
CREATED:20210127T012228Z
LAST-MODIFIED:20210127T012437Z
UID:1220-1613088000-1613347199@gavroche.com.au
SUMMARY:Valentine's Day
DESCRIPTION:Get your romance fix this Valentine’s Day with a lunch or dinner date at Gavroche. Experience the romantic and subtle delicacy of traditional French cuisine over five special courses. \nSpots are limited – book your unforgettable experience with that someone special for the 12th\, 13th or 14th of Feb. BOOK NOW
URL:https://gavroche.com.au/event/valentines-day-2021/
LOCATION:Gavroche Chippendale\, Level 1\, The Old Rum Store\, 2-10 Kensington Street\, Chippendale\, NSW\, 2008\, Australia
CATEGORIES:Featured,Valentine's Day
ATTACH;FMTTYPE=image/jpeg:https://gavroche.com.au/wp-content/uploads/2021/01/Gavroche_Valentines-Day-2021_Banner.jpg
END:VEVENT
END:VCALENDAR