BEGIN:VCALENDAR
VERSION:2.0
PRODID:-//Gavroche Chippendale - ECPv4.9.11//NONSGML v1.0//EN
CALSCALE:GREGORIAN
METHOD:PUBLISH
X-WR-CALNAME:Gavroche Chippendale
X-ORIGINAL-URL:https://gavroche.com.au
X-WR-CALDESC:Events for Gavroche Chippendale
BEGIN:VTIMEZONE
TZID:Australia/Sydney
BEGIN:STANDARD
TZOFFSETFROM:+1100
TZOFFSETTO:+1000
TZNAME:AEST
DTSTART:20200404T160000
END:STANDARD
BEGIN:DAYLIGHT
TZOFFSETFROM:+1000
TZOFFSETTO:+1100
TZNAME:AEDT
DTSTART:20201003T160000
END:DAYLIGHT
END:VTIMEZONE
BEGIN:VEVENT
DTSTART;VALUE=DATE:20200215
DTEND;VALUE=DATE:20200216
DTSTAMP:20200301T020129
CREATED:20200128T051258Z
LAST-MODIFIED:20200219T005541Z
UID:954-1581724800-1581811199@gavroche.com.au
SUMMARY:Malentine's Day
DESCRIPTION:\n					\n						MALENTINE’S DAYSaturday\, 15 February 2020Many Valentines? This is the day for you…There’s a lot of reasons why some people may need an extra Valentine’s Day… But who are we to judge? This is the French way! Whatever you’re reasons\, come join us on Malentine’s Day for our special Valentine’s Day set menu\, including very cheekily priced Pommery Champagne. \n.fusion-button.button-1 .fusion-button-text\, .fusion-button.button-1 i {color:#ffffff;}.fusion-button.button-1 .fusion-button-icon-divider{border-color:#ffffff;}.fusion-button.button-1:hover .fusion-button-text\, .fusion-button.button-1:hover i\,.fusion-button.button-1:focus .fusion-button-text\, .fusion-button.button-1:focus i\,.fusion-button.button-1:active .fusion-button-text\, .fusion-button.button-1:active{color:#ffffff;}.fusion-button.button-1:hover .fusion-button-icon-divider\, .fusion-button.button-1:hover .fusion-button-icon-divider\, .fusion-button.button-1:active .fusion-button-icon-divider{border-color:#ffffff;}.fusion-button.button-1:hover\, .fusion-button.button-1:focus\, .fusion-button.button-1:active{border-color:#ffffff;border-width:0px;}.fusion-button.button-1 {border-color:#b5282f;border-width:0px;border-radius:25px;}.fusion-button.button-1{background: #b5282f;}.fusion-button.button-1:hover\,.button-1:focus\,.fusion-button.button-1:active{background: #000000;}BOOK NOW\n\n					\n				\n
URL:https://gavroche.com.au/event/malentines-day-2020/
LOCATION:Gavroche Chippendale\, Level 1\, The Old Rum Store\, 2-10 Kensington Street\, Chippendale\, NSW\, 2008\, Australia
CATEGORIES:Recent,Valentine's Day
ATTACH;FMTTYPE=image/jpeg:https://gavroche.com.au/wp-content/uploads/2020/01/Gavroche_Malentines-Day-2020_1200x800px.jpg
END:VEVENT
END:VCALENDAR